BEGIN:VCALENDAR
VERSION:2.0
PRODID:-//Vibrant Forest Brewery - ECPv6.15.20//NONSGML v1.0//EN
CALSCALE:GREGORIAN
METHOD:PUBLISH
X-WR-CALNAME:Vibrant Forest Brewery
X-ORIGINAL-URL:https://vibrantforest.co.uk
X-WR-CALDESC:Events for Vibrant Forest Brewery
REFRESH-INTERVAL;VALUE=DURATION:PT1H
X-Robots-Tag:noindex
X-PUBLISHED-TTL:PT1H
BEGIN:VTIMEZONE
TZID:Europe/London
BEGIN:DAYLIGHT
TZOFFSETFROM:+0000
TZOFFSETTO:+0100
TZNAME:BST
DTSTART:20240331T010000
END:DAYLIGHT
BEGIN:STANDARD
TZOFFSETFROM:+0100
TZOFFSETTO:+0000
TZNAME:GMT
DTSTART:20241027T010000
END:STANDARD
BEGIN:DAYLIGHT
TZOFFSETFROM:+0000
TZOFFSETTO:+0100
TZNAME:BST
DTSTART:20250330T010000
END:DAYLIGHT
BEGIN:STANDARD
TZOFFSETFROM:+0100
TZOFFSETTO:+0000
TZNAME:GMT
DTSTART:20251026T010000
END:STANDARD
BEGIN:DAYLIGHT
TZOFFSETFROM:+0000
TZOFFSETTO:+0100
TZNAME:BST
DTSTART:20260329T010000
END:DAYLIGHT
BEGIN:STANDARD
TZOFFSETFROM:+0100
TZOFFSETTO:+0000
TZNAME:GMT
DTSTART:20261025T010000
END:STANDARD
END:VTIMEZONE
BEGIN:VEVENT
DTSTART;TZID=Europe/London:20250927T140000
DTEND;TZID=Europe/London:20250927T220000
DTSTAMP:20260419T164608
CREATED:20250821T074226Z
LAST-MODIFIED:20250821T074226Z
UID:10000107-1758981600-1759010400@vibrantforest.co.uk
SUMMARY:Afterglow
DESCRIPTION:Goodbye Summer\, Hello Party! Blackstar is throwing an epic end-of-summer bash at the one and only Vibrant Forest Brewery – and you’re invited! Live on stage: Derrick McKenzie – the legendary groove master from Jamiroquai Mark Hill – the Original Artful Dodger & co-writer of Craig David’s “Born To Do It” Plus Ridney (Armada / Café Mambo Ibiza) bringing pure sunset vibes With Jonathan Fashole Luke & Shannon B live to keep you dancing till the stars come out! Great beer. Huge tunes. Summer’s last big hurrah. Date: Saturday 27th September (2pm till 10pm) Location: Vibrant Forest Brewery\, Unit 3 The Purlieu Centre\, Hardley SO45 3AE Let’s send summer off in style. This isn’t just a gig – it’s a mini festival! \nhttps://www.seetickets.com/event/after-glow/vibrant-forest/3473762
URL:https://vibrantforest.co.uk/event/afterglow/
LOCATION:Vibrant Forest Taproom\, Units 3 to 6 The Purlieu Centre\, SO45 3AE
CATEGORIES:Festival
ATTACH;FMTTYPE=image/jpeg:https://vibrantforest.co.uk/wp-content/uploads/2025/08/afterglow.jpg
END:VEVENT
END:VCALENDAR